BEGIN:VCALENDAR
VERSION:2.0
PRODID:-//shindokan - ECPv6.15.20//NONSGML v1.0//EN
CALSCALE:GREGORIAN
METHOD:PUBLISH
X-WR-CALNAME:shindokan
X-ORIGINAL-URL:https://shindokan-luzern.ch
X-WR-CALDESC:Veranstaltungen für shindokan
REFRESH-INTERVAL;VALUE=DURATION:PT1H
X-Robots-Tag:noindex
X-PUBLISHED-TTL:PT1H
BEGIN:VTIMEZONE
TZID:Europe/Zurich
BEGIN:DAYLIGHT
TZOFFSETFROM:+0100
TZOFFSETTO:+0200
TZNAME:CEST
DTSTART:20250330T010000
END:DAYLIGHT
BEGIN:STANDARD
TZOFFSETFROM:+0200
TZOFFSETTO:+0100
TZNAME:CET
DTSTART:20251026T010000
END:STANDARD
BEGIN:DAYLIGHT
TZOFFSETFROM:+0100
TZOFFSETTO:+0200
TZNAME:CEST
DTSTART:20260329T010000
END:DAYLIGHT
BEGIN:STANDARD
TZOFFSETFROM:+0200
TZOFFSETTO:+0100
TZNAME:CET
DTSTART:20261025T010000
END:STANDARD
BEGIN:DAYLIGHT
TZOFFSETFROM:+0100
TZOFFSETTO:+0200
TZNAME:CEST
DTSTART:20270328T010000
END:DAYLIGHT
BEGIN:STANDARD
TZOFFSETFROM:+0200
TZOFFSETTO:+0100
TZNAME:CET
DTSTART:20271031T010000
END:STANDARD
END:VTIMEZONE
BEGIN:VEVENT
DTSTART;TZID=Europe/Zurich:20260425T000000
DTEND;TZID=Europe/Zurich:20260425T235959
DTSTAMP:20260423T112629
CREATED:20251230T095721Z
LAST-MODIFIED:20251230T095721Z
UID:10833-1777075200-1777161599@shindokan-luzern.ch
SUMMARY:JudoRanking Turnier 1000 - St. Gallen
DESCRIPTION:U18 und älter
URL:https://shindokan-luzern.ch/event/judoranking-turnier-1000-st-gallen/
LOCATION:9000 St. Gallen\, Parkstrasse 2\, St. Gallen\, St. Gallen\, 9000\, Switzerland
END:VEVENT
BEGIN:VEVENT
DTSTART;TZID=Europe/Zurich:20260426T000000
DTEND;TZID=Europe/Zurich:20260426T235959
DTSTAMP:20260423T112629
CREATED:20251230T100045Z
LAST-MODIFIED:20251230T100046Z
UID:10836-1777161600-1777247999@shindokan-luzern.ch
SUMMARY:JudoSchülerturnier St. Gallen
DESCRIPTION:U15 und jünger
URL:https://shindokan-luzern.ch/event/judoschuelerturnier-st-gallen/
LOCATION:9000 St. Gallen\, Parkstrasse 2\, St. Gallen\, St. Gallen\, 9000\, Switzerland
END:VEVENT
BEGIN:VEVENT
DTSTART;TZID=Europe/Zurich:20260613T000000
DTEND;TZID=Europe/Zurich:20260613T235959
DTSTAMP:20260423T112629
CREATED:20251230T100607Z
LAST-MODIFIED:20251230T100607Z
UID:10839-1781308800-1781395199@shindokan-luzern.ch
SUMMARY:JudoRanking Turnier 500 Spiez
DESCRIPTION:U18 und älter
URL:https://shindokan-luzern.ch/event/judoranking-turnier-500-spiez/
LOCATION:3700 Spiez\, ABC-Zentrum 1 A\, Spiez\, Bern\, 3700\, Switzerland
END:VEVENT
BEGIN:VEVENT
DTSTART;TZID=Europe/Zurich:20260614T000000
DTEND;TZID=Europe/Zurich:20260614T235959
DTSTAMP:20260423T112629
CREATED:20251230T100944Z
LAST-MODIFIED:20251230T100945Z
UID:10842-1781395200-1781481599@shindokan-luzern.ch
SUMMARY:JudoNationales Schülerturnier Spiez
DESCRIPTION:U15 und jünger
URL:https://shindokan-luzern.ch/event/judonationales-schuelerturnier-spiez/
LOCATION:3700 Spiez\, ABC-Zentrum 1 A\, Spiez\, Bern\, 3700\, Switzerland
END:VEVENT
BEGIN:VEVENT
DTSTART;TZID=Europe/Zurich:20260620T130000
DTEND;TZID=Europe/Zurich:20260620T170000
DTSTAMP:20260423T112629
CREATED:20260125T152737Z
LAST-MODIFIED:20260125T154352Z
UID:10920-1781960400-1781974800@shindokan-luzern.ch
SUMMARY:JudoZSJJV Randori-Event Ebikon
DESCRIPTION:U18
URL:https://shindokan-luzern.ch/event/judorandori-event/
LOCATION:Dojo Judo und Jiu-Jitsu Club Ebikon\, Schulhaus Wydenhof\, Ebikon\, LU\, 6030\, Switzerland
END:VEVENT
BEGIN:VEVENT
DTSTART;TZID=Europe/Zurich:20260905T130000
DTEND;TZID=Europe/Zurich:20260905T170000
DTSTAMP:20260423T112629
CREATED:20260125T153456Z
LAST-MODIFIED:20260125T154308Z
UID:10923-1788613200-1788627600@shindokan-luzern.ch
SUMMARY:JudoZSJJV Randori-Event Horw
DESCRIPTION:U18
URL:https://shindokan-luzern.ch/event/judorandori-event-horw/
LOCATION:Dojo JC Horw
END:VEVENT
BEGIN:VEVENT
DTSTART;TZID=Europe/Zurich:20260912T000000
DTEND;TZID=Europe/Zurich:20260912T235959
DTSTAMP:20260423T112629
CREATED:20251230T101350Z
LAST-MODIFIED:20251230T101350Z
UID:10845-1789171200-1789257599@shindokan-luzern.ch
SUMMARY:Judo Ranking Turnier 1000 Weinfelden
DESCRIPTION:U18 und älter
URL:https://shindokan-luzern.ch/event/judo-ranking-turnier-1000-weinfelden/
LOCATION:8570 Weinfelden\, Industriestrasse 31\, Weinfelden\, Thurgau\, 8570\, Switzerland
END:VEVENT
BEGIN:VEVENT
DTSTART;TZID=Europe/Zurich:20260913T000000
DTEND;TZID=Europe/Zurich:20260913T235959
DTSTAMP:20260423T112629
CREATED:20251230T101710Z
LAST-MODIFIED:20251230T101710Z
UID:10848-1789257600-1789343999@shindokan-luzern.ch
SUMMARY:JudoNationales Schülerturnier Weinfelden
DESCRIPTION:U15 und jünger
URL:https://shindokan-luzern.ch/event/judonationales-schuelerturnier-weinfelden/
LOCATION:8570 Weinfelden\, Industriestrasse 31\, Weinfelden\, Thurgau\, 8570\, Switzerland
END:VEVENT
BEGIN:VEVENT
DTSTART;TZID=Europe/Zurich:20260926T000000
DTEND;TZID=Europe/Zurich:20260926T235959
DTSTAMP:20260423T112629
CREATED:20251230T102134Z
LAST-MODIFIED:20251230T103530Z
UID:10851-1790380800-1790467199@shindokan-luzern.ch
SUMMARY:JudoRanking Turnier 1000 Murten
DESCRIPTION:U18 und älter
URL:https://shindokan-luzern.ch/event/h5judo-h5ranking-turnier-1000-murten/
LOCATION:Turnhalle Prehl\, Wilerweg 53\, Murten\, 3280
END:VEVENT
BEGIN:VEVENT
DTSTART;TZID=Europe/Zurich:20260927T000000
DTEND;TZID=Europe/Zurich:20260927T235959
DTSTAMP:20260423T112629
CREATED:20251230T102741Z
LAST-MODIFIED:20251230T102742Z
UID:10857-1790467200-1790553599@shindokan-luzern.ch
SUMMARY:JudoNationales Schülerturnier Murten
DESCRIPTION:U15 und jünger
URL:https://shindokan-luzern.ch/event/judonationales-schuelerturnier-murten/
LOCATION:Turnhalle Prehl\, Wilerweg 53\, Murten\, 3280
END:VEVENT
BEGIN:VEVENT
DTSTART;TZID=Europe/Zurich:20261018T000000
DTEND;TZID=Europe/Zurich:20261018T235959
DTSTAMP:20260423T112629
CREATED:20251230T103136Z
LAST-MODIFIED:20251230T103417Z
UID:10860-1792281600-1792367999@shindokan-luzern.ch
SUMMARY:Judo\, Figthing\, Ne-Waza (BJJ)ZSJJV Zentralschweizer Judo und Ju-Jitsu Meisterschaft
DESCRIPTION:
URL:https://shindokan-luzern.ch/event/judo-ju-jitsu-figthing-ju-jitsu-ne-waza-bjjzsjjv-zentralschweizer-judo-und-ju-jitsu-meisterschaft/
LOCATION:ZG
END:VEVENT
BEGIN:VEVENT
DTSTART;TZID=Europe/Zurich:20261031T000000
DTEND;TZID=Europe/Zurich:20261031T235959
DTSTAMP:20260423T112629
CREATED:20251230T104246Z
LAST-MODIFIED:20251230T104247Z
UID:10866-1793404800-1793491199@shindokan-luzern.ch
SUMMARY:JudoRanking Turnier 500 Uster
DESCRIPTION:U18 und älter
URL:https://shindokan-luzern.ch/event/judoranking-turnier-500-uster/
LOCATION:Sporthalle Buchenholz Uster\, Hallenbadweg\, Uster\, 8610
END:VEVENT
BEGIN:VEVENT
DTSTART;TZID=Europe/Zurich:20261101T000000
DTEND;TZID=Europe/Zurich:20261101T235959
DTSTAMP:20260423T112629
CREATED:20251230T104530Z
LAST-MODIFIED:20251230T104531Z
UID:10869-1793491200-1793577599@shindokan-luzern.ch
SUMMARY:JudoNationales Schülerturnier Uster
DESCRIPTION:U15 und jünger
URL:https://shindokan-luzern.ch/event/judonationales-schuelerturnier-uster/
LOCATION:Sporthalle Buchenholz Uster\, Hallenbadweg\, Uster\, 8610
END:VEVENT
BEGIN:VEVENT
DTSTART;TZID=Europe/Zurich:20261115T130000
DTEND;TZID=Europe/Zurich:20261115T170000
DTSTAMP:20260423T112629
CREATED:20260125T153733Z
LAST-MODIFIED:20260125T154200Z
UID:10928-1794747600-1794762000@shindokan-luzern.ch
SUMMARY:JudoZSJJV Freundschaftsturnier in Cham
DESCRIPTION:U18
URL:https://shindokan-luzern.ch/event/judoplauschturnier-in-cham/
LOCATION:Dojo Kiai Cham\, Schulhaus Röthliberg 2\, Cham\, ZG\, 6330\, Switzerland
END:VEVENT
END:VCALENDAR