BEGIN:VCALENDAR
VERSION:2.0
PRODID:-//shindokan - ECPv6.15.20//NONSGML v1.0//EN
CALSCALE:GREGORIAN
METHOD:PUBLISH
X-WR-CALNAME:shindokan
X-ORIGINAL-URL:https://shindokan-luzern.ch
X-WR-CALDESC:Veranstaltungen für shindokan
REFRESH-INTERVAL;VALUE=DURATION:PT1H
X-Robots-Tag:noindex
X-PUBLISHED-TTL:PT1H
BEGIN:VTIMEZONE
TZID:Europe/Zurich
BEGIN:DAYLIGHT
TZOFFSETFROM:+0100
TZOFFSETTO:+0200
TZNAME:CEST
DTSTART:20240331T010000
END:DAYLIGHT
BEGIN:STANDARD
TZOFFSETFROM:+0200
TZOFFSETTO:+0100
TZNAME:CET
DTSTART:20241027T010000
END:STANDARD
BEGIN:DAYLIGHT
TZOFFSETFROM:+0100
TZOFFSETTO:+0200
TZNAME:CEST
DTSTART:20250330T010000
END:DAYLIGHT
BEGIN:STANDARD
TZOFFSETFROM:+0200
TZOFFSETTO:+0100
TZNAME:CET
DTSTART:20251026T010000
END:STANDARD
BEGIN:DAYLIGHT
TZOFFSETFROM:+0100
TZOFFSETTO:+0200
TZNAME:CEST
DTSTART:20260329T010000
END:DAYLIGHT
BEGIN:STANDARD
TZOFFSETFROM:+0200
TZOFFSETTO:+0100
TZNAME:CET
DTSTART:20261025T010000
END:STANDARD
BEGIN:DAYLIGHT
TZOFFSETFROM:+0100
TZOFFSETTO:+0200
TZNAME:CEST
DTSTART:20270328T010000
END:DAYLIGHT
BEGIN:STANDARD
TZOFFSETFROM:+0200
TZOFFSETTO:+0100
TZNAME:CET
DTSTART:20271031T010000
END:STANDARD
END:VTIMEZONE
BEGIN:VEVENT
DTSTART;TZID=Europe/Zurich:20260329T000000
DTEND;TZID=Europe/Zurich:20260329T235959
DTSTAMP:20260423T140223
CREATED:20251230T093829Z
LAST-MODIFIED:20260125T154640Z
UID:10823-1774742400-1774828799@shindokan-luzern.ch
SUMMARY:JudoZSJJV Freundschaftsturnier Luzern
DESCRIPTION:
URL:https://shindokan-luzern.ch/event/judozsjjv-freundschaftsturnier-2/
LOCATION:Honbu Dojo shindokan Luzern\, Baselstrasse 61A\, Luzern\, 6003
END:VEVENT
BEGIN:VEVENT
DTSTART;TZID=Europe/Zurich:20260322T000000
DTEND;TZID=Europe/Zurich:20260322T235959
DTSTAMP:20260423T140223
CREATED:20251020T085829Z
LAST-MODIFIED:20251129T113843Z
UID:10549-1774137600-1774223999@shindokan-luzern.ch
SUMMARY:BJJZurich SPRING OPEN GI and NO-GI 2026
DESCRIPTION:
URL:https://shindokan-luzern.ch/event/bjjzurich-spring-open-gi-and-no-gi-2026/
LOCATION:8304 Wallisellen\, Alte Winterthurerstrasse 62\, Wallisellen\, Zürich\, 8304\, Switzerland
END:VEVENT
BEGIN:VEVENT
DTSTART;TZID=Europe/Zurich:20260315T000000
DTEND;TZID=Europe/Zurich:20260315T235959
DTSTAMP:20260423T140223
CREATED:20251230T094959Z
LAST-MODIFIED:20260102T171305Z
UID:10829-1773532800-1773619199@shindokan-luzern.ch
SUMMARY:Judo48. Rheintaler U15 Schülerturnier
DESCRIPTION:Jahrgang 2012 und jünger
URL:https://shindokan-luzern.ch/event/judonationales-schuelerturnier/
LOCATION:9450 Altstätten\, Bildstrasse 10\, Altstätten\, St. Gallen\, 9450\, Switzerland
END:VEVENT
BEGIN:VEVENT
DTSTART;TZID=Europe/Zurich:20260314T000000
DTEND;TZID=Europe/Zurich:20260314T235959
DTSTAMP:20260423T140223
CREATED:20251230T094547Z
LAST-MODIFIED:20260102T171141Z
UID:10826-1773446400-1773532799@shindokan-luzern.ch
SUMMARY:JudoRanking Turnier 500 Rheinthal
DESCRIPTION:Jahrgang 2011 und älter
URL:https://shindokan-luzern.ch/event/judoranking-turnier-500/
LOCATION:9450 Altstätten\, Bildstrasse 10\, Altstätten\, St. Gallen\, 9450\, Switzerland
END:VEVENT
BEGIN:VEVENT
DTSTART;TZID=Europe/Zurich:20260301T000000
DTEND;TZID=Europe/Zurich:20260301T235959
DTSTAMP:20260423T140223
CREATED:20260125T145738Z
LAST-MODIFIED:20260125T145739Z
UID:10912-1772323200-1772409599@shindokan-luzern.ch
SUMMARY:BJJADCC Suisse National Championship 2026
DESCRIPTION:
URL:https://shindokan-luzern.ch/event/bjjadcc-suisse-national-championship-2026/
LOCATION:Heslihalle Küsnacht\, Heslibachstrasse 33\, Küsnacht\, 8700\, Switzerland
END:VEVENT
BEGIN:VEVENT
DTSTART;TZID=Europe/Zurich:20260228T000000
DTEND;TZID=Europe/Zurich:20260228T235959
DTSTAMP:20260423T140223
CREATED:20251230T110331Z
LAST-MODIFIED:20251230T110801Z
UID:10874-1772236800-1772323199@shindokan-luzern.ch
SUMMARY:BJJBulldog BJJ Tournament Gi & No-Gi
DESCRIPTION:
URL:https://shindokan-luzern.ch/event/bjj-gi-no-gibulldog-bjj-tournament/
LOCATION:Mehrzweckhalle Salenstein\, Eugenbergstrasse 19\, Salenstein\, 8268
END:VEVENT
BEGIN:VEVENT
DTSTART;TZID=Europe/Zurich:20260207T000000
DTEND;TZID=Europe/Zurich:20260207T235959
DTSTAMP:20260423T140223
CREATED:20260106T190113Z
LAST-MODIFIED:20260106T190114Z
UID:10895-1770422400-1770508799@shindokan-luzern.ch
SUMMARY:BJJAJP TOUR ZURICH INTERNATIONAL JIU-JITSU CHAMPIONSHIP 2026 - GI & NO-GI
DESCRIPTION:
URL:https://shindokan-luzern.ch/event/bjjajp-tour-zurich-international-jiu-jitsu-championship-2026-gi-no-gi/
LOCATION:8304 Wallisellen\, Alte Winterthurerstrasse 62\, Wallisellen\, Zürich\, 8304\, Switzerland
END:VEVENT
BEGIN:VEVENT
DTSTART;TZID=Europe/Zurich:20260207T000000
DTEND;TZID=Europe/Zurich:20260207T235959
DTSTAMP:20260423T140223
CREATED:20251230T093642Z
LAST-MODIFIED:20260102T171009Z
UID:10820-1770422400-1770508799@shindokan-luzern.ch
SUMMARY:JudoZSJJV Freundschaftsturnier Sarnen
DESCRIPTION:
URL:https://shindokan-luzern.ch/event/judozsjjv-freundschaftsturnier/
LOCATION:Dreifachturnhalle Sarnen\, Rütistrasse 3\, Sarnen\, OW\, 6060\, Switzerland
END:VEVENT
BEGIN:VEVENT
DTSTART;TZID=Europe/Zurich:20260201T000000
DTEND;TZID=Europe/Zurich:20260201T235959
DTSTAMP:20260423T140223
CREATED:20251020T083316Z
LAST-MODIFIED:20251230T105031Z
UID:10540-1769904000-1769990399@shindokan-luzern.ch
SUMMARY:JudoNationales Schülerturnier - Oensingen 2026
DESCRIPTION:U15
URL:https://shindokan-luzern.ch/event/judonationales-schuelerturnier-oensingen-2026/
LOCATION:Raiffeisen Arena Hägendorf\, Gäustrasse 10\, Hägedorf\, Solothurn\, 4614\, Switzerland
END:VEVENT
BEGIN:VEVENT
DTSTART;TZID=Europe/Zurich:20260201T000000
DTEND;TZID=Europe/Zurich:20260201T235959
DTSTAMP:20260423T140223
CREATED:20251020T071736Z
LAST-MODIFIED:20251020T083705Z
UID:10523-1769904000-1769990399@shindokan-luzern.ch
SUMMARY:Ne-Waza (BJJ) & FightingOffene Ju-Jitsu Meisterschaft
DESCRIPTION:
URL:https://shindokan-luzern.ch/event/ne-waza-bjj-fightingoffene-ju-jitsu-meisterschaft/
LOCATION:Sportanlage Wisacher Regensdorf\, Riedthofstrasse 183\, Regensdorf\, Zürich\, 8105\, Switzerland
END:VEVENT
BEGIN:VEVENT
DTSTART;TZID=Europe/Zurich:20260131T000000
DTEND;TZID=Europe/Zurich:20260131T235959
DTSTAMP:20260423T140223
CREATED:20251020T083047Z
LAST-MODIFIED:20251020T083505Z
UID:10537-1769817600-1769903999@shindokan-luzern.ch
SUMMARY:JudoRanking 500 Oensingen
DESCRIPTION:U18\, U21\, Senior
URL:https://shindokan-luzern.ch/event/judoranking-500-oensingen/
LOCATION:Raiffeisen Arena Hägendorf\, Gäustrasse 10\, Hägedorf\, Solothurn\, 4614\, Switzerland
END:VEVENT
BEGIN:VEVENT
DTSTART;TZID=Europe/Zurich:20260118T080000
DTEND;TZID=Europe/Zurich:20260118T170000
DTSTAMP:20260423T140223
CREATED:20251122T082755Z
LAST-MODIFIED:20251122T083110Z
UID:10624-1768723200-1768755600@shindokan-luzern.ch
SUMMARY:BJJ NoGiApexZone Grappling Zürich
DESCRIPTION:
URL:https://shindokan-luzern.ch/event/bjj-nogi/
LOCATION:Sport Center Irchel\, Winterthurerstrasse 190\, Zürich\, 8057
END:VEVENT
BEGIN:VEVENT
DTSTART;TZID=Europe/Zurich:20251207T000000
DTEND;TZID=Europe/Zurich:20251207T235959
DTSTAMP:20260423T140223
CREATED:20251020T080111Z
LAST-MODIFIED:20251020T083758Z
UID:10527-1765065600-1765151999@shindokan-luzern.ch
SUMMARY:Duo\, Ne-Waza (BJJ) & FightingSchweizer Meisterschaften
DESCRIPTION:
URL:https://shindokan-luzern.ch/event/duo-ne-waza-bjj-fightingschweizer-meisterschaft-ju-jitsu/
LOCATION:Aarfit Halle Aarberg\, Aareweg 32\, Aarberg\, 3270
END:VEVENT
BEGIN:VEVENT
DTSTART;TZID=Europe/Zurich:20251206T080000
DTEND;TZID=Europe/Zurich:20251207T170000
DTSTAMP:20260423T140223
CREATED:20251020T080436Z
LAST-MODIFIED:20251020T083913Z
UID:10532-1765008000-1765126800@shindokan-luzern.ch
SUMMARY:JudoSchweizer Meisterschaften
DESCRIPTION:
URL:https://shindokan-luzern.ch/event/judoschweizer-meisterschaften/
LOCATION:Aarfit Halle Aarberg\, Aareweg 32\, Aarberg\, 3270
END:VEVENT
BEGIN:VEVENT
DTSTART;TZID=Europe/Zurich:20251130T000000
DTEND;TZID=Europe/Zurich:20251130T235959
DTSTAMP:20260423T140223
CREATED:20251010T100055Z
LAST-MODIFIED:20251020T091956Z
UID:10511-1764460800-1764547199@shindokan-luzern.ch
SUMMARY:BJJ/Ne-Waza | Judo | Ju-Jitsushindokan Chlausturnier 2025
DESCRIPTION:Das vereinsinterne Chlausturnier steht wieder vor der Tür! Schreibt bei der Anmeldung einfach die Disziplin(en)\, in denen ihr antreten möchtet in den Kommentar.
URL:https://shindokan-luzern.ch/event/bjj-judo-ju-jitsushindokan-chlausturnier-2025/
LOCATION:Honbu Dojo shindokan Luzern\, Baselstrasse 61A\, Luzern\, 6003
CATEGORIES:Turniere
END:VEVENT
BEGIN:VEVENT
DTSTART;TZID=Europe/Zurich:20251116T100000
DTEND;TZID=Europe/Zurich:20251116T130000
DTSTAMP:20260423T140223
CREATED:20241230T210713Z
LAST-MODIFIED:20251113T210818Z
UID:9426-1763287200-1763298000@shindokan-luzern.ch
SUMMARY:JudoRandori Training ZSJJV Kiai Cham
DESCRIPTION:Ein gemeinsames Judo Randoritraining mit vielen Teilnehmer aus verschiedenen Zentralschweizer Vereinen. \nIdeal als Vorbereitung für künftige Wettkämpfe regional oder auch national. \nAlle Kinder und Jugendliche bis zum 18. Alterjahr.
URL:https://shindokan-luzern.ch/event/judorandori-training-zsjjv-kiai-cham/
LOCATION:Dojo Kiai Cham\, Schulhaus Röthliberg 2\, Cham\, ZG\, 6330\, Switzerland
CATEGORIES:Training
END:VEVENT
BEGIN:VEVENT
DTSTART;TZID=Europe/Zurich:20251102T000000
DTEND;TZID=Europe/Zurich:20251102T235959
DTSTAMP:20260423T140223
CREATED:20251024T054941Z
LAST-MODIFIED:20251024T054941Z
UID:10578-1762041600-1762127999@shindokan-luzern.ch
SUMMARY:Judo40. Nationales Schülerturnier Uster 2025
DESCRIPTION:Bis Jahrgang 2011
URL:https://shindokan-luzern.ch/event/judo40-nationales-schuelerturnier-uster-2025/
LOCATION:Sporthalle Buchenholz Uster\, Hallenbadweg\, Uster\, 8610
END:VEVENT
BEGIN:VEVENT
DTSTART;TZID=Europe/Zurich:20251101T080000
DTEND;TZID=Europe/Zurich:20251101T170000
DTSTAMP:20260423T140223
CREATED:20250817T143356Z
LAST-MODIFIED:20251024T060733Z
UID:10394-1761984000-1762016400@shindokan-luzern.ch
SUMMARY:JudoRanking Turnier Uster
DESCRIPTION:Jahrgang 2010 und älter
URL:https://shindokan-luzern.ch/event/ranking-turnier-uster/
LOCATION:Sporthalle Buchenholz Uster\, Hallenbadweg\, Uster\, 8610
END:VEVENT
BEGIN:VEVENT
DTSTART;TZID=Europe/Zurich:20251019T000000
DTEND;TZID=Europe/Zurich:20251019T235959
DTSTAMP:20260423T140223
CREATED:20241230T211531Z
LAST-MODIFIED:20250908T060959Z
UID:9430-1760832000-1760918399@shindokan-luzern.ch
SUMMARY:Judo | Ju-Jitsu | Ne-Waza (BJJ)42. Zentralschweizer Judo und Jiu-Jitsu Meisterschaft in Horw
DESCRIPTION:Judo\, Jiu-Jitsu Fighting und Ne-Waza KategorienKinder unter 15 Jahren nur bei Judo Katergorieren
URL:https://shindokan-luzern.ch/event/42-zentralschweizer-judo-und-jiu-jitsu-meisterschaft-in-horw/
LOCATION:Horwerhalle Horw\, Allmendstrasse 16A\, Horw\, LU\, 6048\, Switzerland
CATEGORIES:Turniere
END:VEVENT
BEGIN:VEVENT
DTSTART;TZID=Europe/Zurich:20251011T000000
DTEND;TZID=Europe/Zurich:20251012T235959
DTSTAMP:20260423T140223
CREATED:20250810T114401Z
LAST-MODIFIED:20250810T114518Z
UID:10379-1760140800-1760313599@shindokan-luzern.ch
SUMMARY:BJJSwiss BJJ Championship
DESCRIPTION:
URL:https://shindokan-luzern.ch/event/bjjswiss-bjj-championship/
LOCATION:1219 Genf
END:VEVENT
BEGIN:VEVENT
DTSTART;TZID=Europe/Zurich:20250927T073000
DTEND;TZID=Europe/Zurich:20250927T180000
DTSTAMP:20260423T140223
CREATED:20250817T135927Z
LAST-MODIFIED:20250817T145436Z
UID:10392-1758958200-1758996000@shindokan-luzern.ch
SUMMARY:JudoRanking Turnier Murten
DESCRIPTION:Nationales Judo 1000er Ranking Turnier \n\n\n\nJahrgang 2010 und älter \n\n\n\nDetails von Ausschreibung Veranstalter
URL:https://shindokan-luzern.ch/event/ranking-judo-turnier-murten/
LOCATION:ZG
END:VEVENT
BEGIN:VEVENT
DTSTART;TZID=Europe/Zurich:20250927T000000
DTEND;TZID=Europe/Zurich:20250927T235959
DTSTAMP:20260423T140223
CREATED:20250810T092001Z
LAST-MODIFIED:20250810T113654Z
UID:10375-1758931200-1759017599@shindokan-luzern.ch
SUMMARY:BJJSWISS BRAZILIAN JIU JITSU & GRAPPLING TOURNAMENT
DESCRIPTION:
URL:https://shindokan-luzern.ch/event/bjjswiss-brazilian-jiu-jitsu-grappling-tournament/
LOCATION:3014 Bern\, Papiermühlestrasse 91\, Switzerland
END:VEVENT
BEGIN:VEVENT
DTSTART;VALUE=DATE:20250913
DTEND;VALUE=DATE:20250914
DTSTAMP:20260423T140223
CREATED:20241218T090019Z
LAST-MODIFIED:20250817T134934Z
UID:9372-1757721600-1757807999@shindokan-luzern.ch
SUMMARY:JudoRanking 1000 Weinfelden
DESCRIPTION:Jahrgang 2010 und älterAusschreibungslink von Veranstalter
URL:https://shindokan-luzern.ch/event/ranking-1000-weinfelden/
LOCATION:8570 Weinfelden\, Industriestrasse 31\, Weinfelden\, Thurgau\, 8570\, Switzerland
CATEGORIES:Turniere
END:VEVENT
BEGIN:VEVENT
DTSTART;TZID=Europe/Zurich:20250906T130000
DTEND;TZID=Europe/Zurich:20250906T173000
DTSTAMP:20260423T140223
CREATED:20241230T205751Z
LAST-MODIFIED:20241230T211716Z
UID:9420-1757163600-1757179800@shindokan-luzern.ch
SUMMARY:JudoPlauschturnier ZSJJV in Ebikon
DESCRIPTION:13:00 Uhr Start Wettkämpfe\nFür alle Kinder und Jugendliche bis 18 Jahre (bis und mit Jahrgang 2007) \nIdeal für erste Wettkampferfahrungen zu sammeln
URL:https://shindokan-luzern.ch/event/plauschturnier-zsjjv-ebikon/
LOCATION:Dojo Judo und Jiu-Jitsu Club Ebikon\, Schulhaus Wydenhof\, Ebikon\, LU\, 6030\, Switzerland
CATEGORIES:Turniere
END:VEVENT
BEGIN:VEVENT
DTSTART;TZID=Europe/Zurich:20250906T000000
DTEND;TZID=Europe/Zurich:20250906T235959
DTSTAMP:20260423T140223
CREATED:20250317T150333Z
LAST-MODIFIED:20250811T092756Z
UID:9889-1757116800-1757203199@shindokan-luzern.ch
SUMMARY:Ne-Waza (BJJ)Rigi Open
DESCRIPTION:
URL:https://shindokan-luzern.ch/event/ne-waza-bjjrigi-open/
LOCATION:6044 Udligenswil
CATEGORIES:Turniere
END:VEVENT
BEGIN:VEVENT
DTSTART;TZID=Europe/Zurich:20250615T000000
DTEND;TZID=Europe/Zurich:20250615T235959
DTSTAMP:20260423T140223
CREATED:20250317T102140Z
LAST-MODIFIED:20250317T103950Z
UID:9851-1749945600-1750031999@shindokan-luzern.ch
SUMMARY:BJJADCC Suisse Open 2025
DESCRIPTION:
URL:https://shindokan-luzern.ch/event/h5bjj-h5adcc-suisse-open-2025/
LOCATION:8304 Wallisellen\, Alte Winterthurerstrasse 62\, Wallisellen\, Zürich\, 8304\, Switzerland
CATEGORIES:Turniere
END:VEVENT
BEGIN:VEVENT
DTSTART;VALUE=DATE:20250615
DTEND;VALUE=DATE:20250616
DTSTAMP:20260423T140223
CREATED:20241218T085217Z
LAST-MODIFIED:20241222T094557Z
UID:9368-1749945600-1750031999@shindokan-luzern.ch
SUMMARY:Judo53. Nationales Schülerturnier Spiez
DESCRIPTION:Jahrgang 2011 und jünger
URL:https://shindokan-luzern.ch/event/53-nationales-schuelerturnier-spiez/
LOCATION:3700 Spiez\, ABC-Zentrum 1 A\, Spiez\, Bern\, 3700\, Switzerland
CATEGORIES:Turniere
END:VEVENT
BEGIN:VEVENT
DTSTART;TZID=Europe/Zurich:20250614T080000
DTEND;TZID=Europe/Zurich:20250614T170000
DTSTAMP:20260423T140223
CREATED:20250411T135141Z
LAST-MODIFIED:20250411T135142Z
UID:10247-1749888000-1749920400@shindokan-luzern.ch
SUMMARY:BJJZurich BJJ SUMMER OPEN GI Adults and Masters 2025
DESCRIPTION:
URL:https://shindokan-luzern.ch/event/bjjzurich-bjj-summer-open-gi-adults-and-masters-2025/
LOCATION:8304 Wallisellen\, Alte Winterthurerstrasse 62\, Wallisellen\, Zürich\, 8304\, Switzerland
END:VEVENT
BEGIN:VEVENT
DTSTART;VALUE=DATE:20250614
DTEND;VALUE=DATE:20250615
DTSTAMP:20260423T140223
CREATED:20241218T084944Z
LAST-MODIFIED:20241222T094609Z
UID:9366-1749859200-1749945599@shindokan-luzern.ch
SUMMARY:JudoRanking 500 Spiez
DESCRIPTION:Jahrgang 2010 und älter
URL:https://shindokan-luzern.ch/event/ranking-500-spiez/
LOCATION:3700 Spiez\, ABC-Zentrum 1 A\, Spiez\, Bern\, 3700\, Switzerland
CATEGORIES:Turniere
END:VEVENT
BEGIN:VEVENT
DTSTART;TZID=Europe/Zurich:20250525T130000
DTEND;TZID=Europe/Zurich:20250525T170000
DTSTAMP:20260423T140223
CREATED:20241228T212907Z
LAST-MODIFIED:20251024T061859Z
UID:9412-1748178000-1748192400@shindokan-luzern.ch
SUMMARY:JudoRandori Training ZSJJV Shindokan Luzern
DESCRIPTION:Ein gemeinsames Judo Randoritraining mit vielen Teilnehmer aus verschiedenen Zentralschweizer Vereinen. \nIdeal als Vorbereitung für künftige Wettkämpfe regional oder auch national. \nAlle Kinder und Jugendliche bis zum 18. Alterjahr.
URL:https://shindokan-luzern.ch/event/judo-randori-training-zsjjv-shindokan-luzern/
LOCATION:Honbu Dojo shindokan Luzern\, Baselstrasse 61A\, Luzern\, 6003
CATEGORIES:Training
END:VEVENT
END:VCALENDAR